BEGIN:VCALENDAR
VERSION:2.0
PRODID:airbnb.whitegauges.net
X-WR-CALDESC:1515 Miracle Strip Pkwy SE Unit 305\, Fort Walton Beach\, FL 3
 2548
X-PUBLISHED-TTL:P1H
BEGIN:VEVENT
UID:5e419a23e4c0c
DTSTART;VALUE=DATE:20200314
SEQUENCE:0
TRANSP:OPAQUE
DTEND;VALUE=DATE:20200318
SUMMARY:Reserved (AirBnb)
CLASS:PUBLIC
DESCRIPTION:https://www.airbnb.com/reservation/itinerary?code=HMCKNJPQC9
X-MICROSOFT-CDO-ALLDAYEVENT:TRUE
DTSTAMP:20200210T110003Z
END:VEVENT
BEGIN:VEVENT
UID:5e419a23e4f4e
DTSTART;VALUE=DATE:20200317
SEQUENCE:0
TRANSP:OPAQUE
DTEND;VALUE=DATE:20200321
SUMMARY:Reserved (AirBnb)
CLASS:PUBLIC
DESCRIPTION:https://www.airbnb.com/reservation/itinerary?code=HMS8BW4JWH
X-MICROSOFT-CDO-ALLDAYEVENT:TRUE
DTSTAMP:20200210T110003Z
END:VEVENT
BEGIN:VEVENT
UID:5e419a23e4fb1
DTSTART;VALUE=DATE:20200328
SEQUENCE:0
TRANSP:OPAQUE
DTEND;VALUE=DATE:20200404
SUMMARY:Reserved (AirBnb)
CLASS:PUBLIC
DESCRIPTION:https://www.airbnb.com/reservation/itinerary?code=HMHQXF55YR
X-MICROSOFT-CDO-ALLDAYEVENT:TRUE
DTSTAMP:20200210T110003Z
END:VEVENT
BEGIN:VEVENT
UID:5e419a23e500b
DTSTART;VALUE=DATE:20200410
SEQUENCE:0
TRANSP:OPAQUE
DTEND;VALUE=DATE:20200419
SUMMARY:Reserved (AirBnb)
CLASS:PUBLIC
DESCRIPTION:https://www.airbnb.com/reservation/itinerary?code=HMHMEE92DD
X-MICROSOFT-CDO-ALLDAYEVENT:TRUE
DTSTAMP:20200210T110003Z
END:VEVENT
BEGIN:VEVENT
UID:5e419a23e5062
DTSTART;VALUE=DATE:20200422
SEQUENCE:0
TRANSP:OPAQUE
DTEND;VALUE=DATE:20200427
SUMMARY:Reserved (AirBnb)
CLASS:PUBLIC
DESCRIPTION:https://www.airbnb.com/reservation/itinerary?code=HMPRAF8YM5
X-MICROSOFT-CDO-ALLDAYEVENT:TRUE
DTSTAMP:20200210T110003Z
END:VEVENT
BEGIN:VEVENT
UID:5e419a23e50b8
DTSTART;VALUE=DATE:20200510
SEQUENCE:0
TRANSP:OPAQUE
DTEND;VALUE=DATE:20200515
SUMMARY:Reserved (AirBnb)
CLASS:PUBLIC
DESCRIPTION:https://www.airbnb.com/reservation/itinerary?code=HMN8S2YKSK
X-MICROSOFT-CDO-ALLDAYEVENT:TRUE
DTSTAMP:20200210T110003Z
END:VEVENT
BEGIN:VEVENT
UID:5e419a23e511c
DTSTART;VALUE=DATE:20200514
SEQUENCE:0
TRANSP:OPAQUE
DTEND;VALUE=DATE:20200518
SUMMARY:Reserved (AirBnb)
CLASS:PUBLIC
DESCRIPTION:https://www.airbnb.com/reservation/itinerary?code=HMS4WSCB3Z
X-MICROSOFT-CDO-ALLDAYEVENT:TRUE
DTSTAMP:20200210T110003Z
END:VEVENT
BEGIN:VEVENT
UID:5e419a23e5171
DTSTART;VALUE=DATE:20200607
SEQUENCE:0
TRANSP:OPAQUE
DTEND;VALUE=DATE:20200612
SUMMARY:Reserved (AirBnb)
CLASS:PUBLIC
DESCRIPTION:https://www.airbnb.com/reservation/itinerary?code=HMJWDB82E5
X-MICROSOFT-CDO-ALLDAYEVENT:TRUE
DTSTAMP:20200210T110003Z
END:VEVENT
BEGIN:VEVENT
UID:5e419a23e51c5
DTSTART;VALUE=DATE:20200611
SEQUENCE:0
TRANSP:OPAQUE
DTEND;VALUE=DATE:20200619
SUMMARY:Reserved (AirBnb)
CLASS:PUBLIC
DESCRIPTION:https://www.airbnb.com/reservation/itinerary?code=HMCBYDDJMM
X-MICROSOFT-CDO-ALLDAYEVENT:TRUE
DTSTAMP:20200210T110003Z
END:VEVENT
BEGIN:VEVENT
UID:5e419a23e521a
DTSTART;VALUE=DATE:20200711
SEQUENCE:0
TRANSP:OPAQUE
DTEND;VALUE=DATE:20200719
SUMMARY:Reserved (AirBnb)
CLASS:PUBLIC
DESCRIPTION:https://www.airbnb.com/reservation/itinerary?code=HMNPCRD35S
X-MICROSOFT-CDO-ALLDAYEVENT:TRUE
DTSTAMP:20200210T110003Z
END:VEVENT
BEGIN:VEVENT
UID:5e419a23e525a
DTSTART;VALUE=DATE:20200208
SEQUENCE:0
TRANSP:OPAQUE
DTEND;VALUE=DATE:20200315
SUMMARY:Manual Block (Airbnb)
CLASS:PUBLIC
X-MICROSOFT-CDO-ALLDAYEVENT:TRUE
DTSTAMP:20200210T110003Z
END:VEVENT
BEGIN:VEVENT
UID:5e419a23e52b0
DTSTART;VALUE=DATE:20210101
SEQUENCE:0
TRANSP:OPAQUE
DTEND;VALUE=DATE:20210212
SUMMARY:Manual Block (Airbnb)
CLASS:PUBLIC
X-MICROSOFT-CDO-ALLDAYEVENT:TRUE
DTSTAMP:20200210T110003Z
END:VEVENT
BEGIN:VEVENT
UID:5e419a23e5305
DTSTART;VALUE=DATE:20200103
SEQUENCE:0
TRANSP:OPAQUE
DTEND;VALUE=DATE:20200315
SUMMARY:Manual Block (VrBo)
CLASS:PUBLIC
X-MICROSOFT-CDO-ALLDAYEVENT:TRUE
DTSTAMP:20200210T110003Z
END:VEVENT
BEGIN:VEVENT
UID:5e419a23e535a
DTSTART;VALUE=DATE:20200322
SEQUENCE:0
TRANSP:OPAQUE
DTEND;VALUE=DATE:20200329
SUMMARY:Reserved - Lindsay (VrBo)
CLASS:PUBLIC
X-MICROSOFT-CDO-ALLDAYEVENT:TRUE
DTSTAMP:20200210T110003Z
END:VEVENT
BEGIN:VEVENT
UID:5e419a23e53ae
DTSTART;VALUE=DATE:20200403
SEQUENCE:0
TRANSP:OPAQUE
DTEND;VALUE=DATE:20200411
SUMMARY:Reserved - Curtis (VrBo)
CLASS:PUBLIC
X-MICROSOFT-CDO-ALLDAYEVENT:TRUE
DTSTAMP:20200210T110003Z
END:VEVENT
BEGIN:VEVENT
UID:5e419a23e540b
DTSTART;VALUE=DATE:20200627
SEQUENCE:0
TRANSP:OPAQUE
DTEND;VALUE=DATE:20200705
SUMMARY:Reserved - Marisol (VrBo)
CLASS:PUBLIC
X-MICROSOFT-CDO-ALLDAYEVENT:TRUE
DTSTAMP:20200210T110003Z
END:VEVENT
BEGIN:VEVENT
UID:5e419a23e5460
DTSTART;VALUE=DATE:20210101
SEQUENCE:0
TRANSP:OPAQUE
DTEND;VALUE=DATE:20210314
SUMMARY:Manual Block (VrBo)
CLASS:PUBLIC
X-MICROSOFT-CDO-ALLDAYEVENT:TRUE
DTSTAMP:20200210T110003Z
END:VEVENT
END:VCALENDAR